Package: GenomicFiles Version: 1.43.0 Command: /home/biocbuild/bbs-3.21-bioc/R/bin/R CMD check --install=check:GenomicFiles.install-out.txt --library=/home/biocbuild/bbs-3.21-bioc/R/site-library --timings GenomicFiles_1.43.0.tar.gz StartedAt: 2025-01-31 22:36:38 -0500 (Fri, 31 Jan 2025) EndedAt: 2025-01-31 22:43:18 -0500 (Fri, 31 Jan 2025) EllapsedTime: 400.4 seconds RetCode: 0 Status: WARNINGS CheckDir: GenomicFiles.Rcheck Warnings: 1