Package: GeneGA Version: 1.57.0 Command: /Library/Frameworks/R.framework/Resources/bin/R CMD check --install=check:GeneGA.install-out.txt --library=/Library/Frameworks/R.framework/Resources/library --no-vignettes --timings GeneGA_1.57.0.tar.gz StartedAt: 2025-02-04 20:39:28 -0500 (Tue, 04 Feb 2025) EndedAt: 2025-02-04 20:44:54 -0500 (Tue, 04 Feb 2025) EllapsedTime: 326.7 seconds RetCode: 0 Status: OK CheckDir: GeneGA.Rcheck Warnings: 0