Package: GeneGA Version: 1.57.0 Command: /Library/Frameworks/R.framework/Resources/bin/R CMD build --keep-empty-dirs --no-resave-data GeneGA StartedAt: 2025-02-04 16:47:15 -0500 (Tue, 04 Feb 2025) EndedAt: 2025-02-04 16:50:10 -0500 (Tue, 04 Feb 2025) EllapsedTime: 175.1 seconds RetCode: 0 Status: OK PackageFile: GeneGA_1.57.0.tar.gz PackageFileSize: 228 KiB