Package: GeneGA
Version: 1.57.0
Command: /home/biocbuild/R/R/bin/R CMD check --install=check:GeneGA.install-out.txt --library=/home/biocbuild/R/R/site-library --no-vignettes --timings GeneGA_1.57.0.tar.gz
StartedAt: 2025-01-28 10:51:15 -0000 (Tue, 28 Jan 2025)
EndedAt: 2025-01-28 10:53:21 -0000 (Tue, 28 Jan 2025)
EllapsedTime: 125.1 seconds
RetCode: 0
Status: OK
CheckDir: GeneGA.Rcheck
Warnings: 0