Package: GeneGA
Version: 1.57.0
Command: /Library/Frameworks/R.framework/Resources/bin/R CMD INSTALL GeneGA
StartedAt: 2025-02-19 15:04:04 -0500 (Wed, 19 Feb 2025)
EndedAt: 2025-02-19 15:04:09 -0500 (Wed, 19 Feb 2025)
EllapsedTime: 4.5 seconds
RetCode: 0
Status: OK