Package: GeneGA Version: 1.57.0 Command: /Library/Frameworks/R.framework/Resources/bin/R CMD build --keep-empty-dirs --no-resave-data GeneGA StartedAt: 2025-02-19 16:25:21 -0500 (Wed, 19 Feb 2025) EndedAt: 2025-02-19 16:25:24 -0500 (Wed, 19 Feb 2025) EllapsedTime: 2.0 seconds RetCode: 1 Status: ERROR PackageFile: None PackageFileSize: NA