Package: GeneBreak
Version: 1.37.0
Command: /Library/Frameworks/R.framework/Resources/bin/R CMD INSTALL GeneBreak
StartedAt: 2025-02-19 15:13:09 -0500 (Wed, 19 Feb 2025)
EndedAt: 2025-02-19 15:13:18 -0500 (Wed, 19 Feb 2025)
EllapsedTime: 8.4 seconds
RetCode: 0
Status: OK