Package: GeneBreak
Version: 1.37.0
Command: /Library/Frameworks/R.framework/Resources/bin/R CMD check --install=check:GeneBreak.install-out.txt --library=/Library/Frameworks/R.framework/Resources/library --no-vignettes --timings GeneBreak_1.37.0.tar.gz
StartedAt: 2025-02-19 19:25:32 -0500 (Wed, 19 Feb 2025)
EndedAt: 2025-02-19 19:26:34 -0500 (Wed, 19 Feb 2025)
EllapsedTime: 62.9 seconds
RetCode: 0
Status: OK
CheckDir: GeneBreak.Rcheck
Warnings: 0