Package: GeneBreak
Version: 1.37.0
Command: /Library/Frameworks/R.framework/Resources/bin/R CMD build --keep-empty-dirs --no-resave-data GeneBreak
StartedAt: 2025-02-19 16:25:01 -0500 (Wed, 19 Feb 2025)
EndedAt: 2025-02-19 16:25:15 -0500 (Wed, 19 Feb 2025)
EllapsedTime: 14.2 seconds
RetCode: 0
Status: OK
PackageFile: GeneBreak_1.37.0.tar.gz
PackageFileSize: 4.274 <A href="http://en.wikipedia.org/wiki/MiB" target="_blank">MiB</A>