##############################################################################
##############################################################################
###
### Running command:
###
###   rm -rf GeneBreak.buildbin-libdir && mkdir GeneBreak.buildbin-libdir && /Users/biocbuild/BBS/utils/build-universal.sh GeneBreak_1.37.0.tar.gz /Library/Frameworks/R.framework/Resources/bin/R GeneBreak.buildbin-libdir
###
##############################################################################
##############################################################################


>>>>>>> 
>>>>>>> INSTALLATION WITH 'R CMD INSTALL --preclean --no-multiarch --library=GeneBreak.buildbin-libdir GeneBreak_1.37.0.tar.gz'
>>>>>>> 

* installing *source* package ‘GeneBreak’ ...
** this is package ‘GeneBreak’ version ‘1.37.0’
** using staged installation
** R
** data
** inst
** byte-compile and prepare package for lazy loading
Creating a new generic function for ‘segmentData’ in package ‘GeneBreak’
** help
*** installing help indices
** building package indices
** installing vignettes
** testing if installed package can be loaded from temporary location
** testing if installed package can be loaded from final location
** testing if installed package keeps a record of temporary installation path
* DONE (GeneBreak)