Package: GSgalgoR
Version: 1.17.0
Maintainer: Carlos Catania
MaintainerEmail: harpomaxx at gmail.com
git_url: https://git.bioconductor.org/packages/GSgalgoR
git_branch: devel
git_last_commit: 5111e23
git_last_commit_date: 2024-10-29 10:53:20 -0500 (Tue, 29 Oct 2024)