Package: GSVA Version: 2.1.5 Command: E:\biocbuild\bbs-3.21-bioc\R\bin\R.exe CMD INSTALL GSVA StartedAt: 2025-02-04 16:43:47 -0500 (Tue, 04 Feb 2025) EndedAt: 2025-02-04 16:44:52 -0500 (Tue, 04 Feb 2025) EllapsedTime: 65.3 seconds RetCode: 0 Status: OK