Package: GSVA Version: 2.1.5 Command: rm -rf GSVA.buildbin-libdir && mkdir GSVA.buildbin-libdir && E:\biocbuild\bbs-3.21-bioc\R\bin\R.exe CMD INSTALL --build --library=GSVA.buildbin-libdir GSVA_2.1.5.tar.gz StartedAt: 2025-02-05 08:05:31 -0500 (Wed, 05 Feb 2025) EndedAt: 2025-02-05 08:06:41 -0500 (Wed, 05 Feb 2025) EllapsedTime: 69.5 seconds RetCode: 0 Status: OK PackageFile: GSVA_2.1.5.zip PackageFileSize: 2.024 MiB