Package: GSVA Version: 2.1.5 Command: /home/biocbuild/R/R/bin/R CMD build --keep-empty-dirs --no-resave-data GSVA StartedAt: 2025-01-28 23:26:57 -0000 (Tue, 28 Jan 2025) EndedAt: 2025-01-28 23:30:23 -0000 (Tue, 28 Jan 2025) EllapsedTime: 206.1 seconds RetCode: 0 Status: OK PackageFile: GSVA_2.1.5.tar.gz PackageFileSize: 2.229 MiB