Package: GSVA Version: 2.1.5 Command: /Library/Frameworks/R.framework/Resources/bin/R CMD build --keep-empty-dirs --no-resave-data GSVA StartedAt: 2025-02-04 16:33:52 -0500 (Tue, 04 Feb 2025) EndedAt: 2025-02-04 16:34:48 -0500 (Tue, 04 Feb 2025) EllapsedTime: 55.6 seconds RetCode: 0 Status: OK PackageFile: GSVA_2.1.5.tar.gz PackageFileSize: 2.376 MiB