Package: GSEABenchmarkeR Version: 1.27.0 Command: E:\biocbuild\bbs-3.21-bioc\R\bin\R.exe CMD check --no-multiarch --install=check:GSEABenchmarkeR.install-out.txt --library=E:\biocbuild\bbs-3.21-bioc\R\library --no-vignettes --timings GSEABenchmarkeR_1.27.0.tar.gz StartedAt: 2025-02-05 02:12:57 -0500 (Wed, 05 Feb 2025) EndedAt: 2025-02-05 02:18:20 -0500 (Wed, 05 Feb 2025) EllapsedTime: 322.6 seconds RetCode: 0 Status: OK CheckDir: GSEABenchmarkeR.Rcheck Warnings: 0