Package: GSEABenchmarkeR Version: 1.27.0 Command: /Library/Frameworks/R.framework/Resources/bin/R CMD build --keep-empty-dirs --no-resave-data GSEABenchmarkeR StartedAt: 2025-02-04 16:55:51 -0500 (Tue, 04 Feb 2025) EndedAt: 2025-02-04 16:58:25 -0500 (Tue, 04 Feb 2025) EllapsedTime: 154.1 seconds RetCode: 0 Status: OK PackageFile: GSEABenchmarkeR_1.27.0.tar.gz PackageFileSize: 569.2 KiB