Package: GSEABenchmarkeR Version: 1.27.0 Command: /Library/Frameworks/R.framework/Resources/bin/R CMD INSTALL GSEABenchmarkeR StartedAt: 2025-02-04 15:10:42 -0500 (Tue, 04 Feb 2025) EndedAt: 2025-02-04 15:10:51 -0500 (Tue, 04 Feb 2025) EllapsedTime: 8.1 seconds RetCode: 0 Status: OK