Package: GRENITS Version: 1.59.0 Command: E:\biocbuild\bbs-3.21-bioc\R\bin\R.exe CMD INSTALL GRENITS StartedAt: 2025-02-19 15:32:46 -0500 (Wed, 19 Feb 2025) EndedAt: 2025-02-19 15:38:24 -0500 (Wed, 19 Feb 2025) EllapsedTime: 337.8 seconds RetCode: 0 Status: OK