Package: GRENITS Version: 1.59.0 Command: E:\biocbuild\bbs-3.21-bioc\R\bin\R.exe CMD check --no-multiarch --install=check:GRENITS.install-out.txt --library=E:\biocbuild\bbs-3.21-bioc\R\library --no-vignettes --timings GRENITS_1.59.0.tar.gz StartedAt: 2025-02-20 01:47:34 -0500 (Thu, 20 Feb 2025) EndedAt: 2025-02-20 01:51:26 -0500 (Thu, 20 Feb 2025) EllapsedTime: 232.4 seconds RetCode: 0 Status: OK CheckDir: GRENITS.Rcheck Warnings: 0