##############################################################################
##############################################################################
###
### Running command:
###
###   E:\biocbuild\bbs-3.21-bioc\R\bin\R.exe CMD check --no-multiarch --install=check:GRENITS.install-out.txt --library=E:\biocbuild\bbs-3.21-bioc\R\library --no-vignettes --timings GRENITS_1.59.0.tar.gz
###
##############################################################################
##############################################################################


* using log directory 'E:/biocbuild/bbs-3.21-bioc/meat/GRENITS.Rcheck'
* using R Under development (unstable) (2025-01-21 r87610 ucrt)
* using platform: x86_64-w64-mingw32
* R was compiled by
    gcc.exe (GCC) 13.3.0
    GNU Fortran (GCC) 13.3.0
* running under: Windows Server 2022 x64 (build 20348)
* using session charset: UTF-8
* using option '--no-vignettes'
* checking for file 'GRENITS/DESCRIPTION' ... OK
* checking extension type ... Package
* this is package 'GRENITS' version '1.59.0'
* checking package namespace information ... OK
* checking package dependencies ... OK
* checking if this is a source package ... OK
* checking if there is a namespace ... OK
* checking for hidden files and directories ... OK
* checking for portable file names ... OK
* checking whether package 'GRENITS' can be installed ... OK
* used C++ compiler: 'G__~1.EXE (GCC) 13.3.0'
* checking installed package size ... OK
* checking package directory ... OK
* checking 'build' directory ... OK
* checking DESCRIPTION meta-information ... OK
* checking top-level files ... OK
* checking for left-over files ... OK
* checking index information ... OK
* checking package subdirectories ... OK
* checking code files for non-ASCII characters ... OK
* checking R files for syntax errors ... OK
* checking whether the package can be loaded ... OK
* checking whether the package can be loaded with stated dependencies ... OK
* checking whether the package can be unloaded cleanly ... OK
* checking whether the namespace can be loaded with stated dependencies ... OK
* checking whether the namespace can be unloaded cleanly ... OK
* checking dependencies in R code ... NOTE
Packages in Depends field not imported from:
  'Rcpp' 'RcppArmadillo' 'ggplot2'
  These packages need to be imported from (in the NAMESPACE file)
  for when this namespace is loaded but not attached.
* checking S3 generic/method consistency ... OK
* checking replacement functions ... OK
* checking foreign function calls ... OK
* checking R code for possible problems ... NOTE
.heatMap.ggplot: no visible global function definition for 'ggplot'
.heatMap.ggplot: no visible global function definition for 'aes'
.heatMap.ggplot: no visible binding for global variable 'Var2'
.heatMap.ggplot: no visible binding for global variable 'Var1'
.heatMap.ggplot: no visible global function definition for 'geom_tile'
.heatMap.ggplot: no visible binding for global variable 'value'
.heatMap.ggplot: no visible global function definition for
  'scale_fill_gradient'
.heatMap.ggplot: no visible global function definition for 'theme'
.heatMap.ggplot: no visible global function definition for
  'element_blank'
.heatMap.ggplot: no visible global function definition for
  'element_text'
.heatMap.ggplot: no visible global function definition for 'ggtitle'
.heatMap.ggplot: no visible global function definition for 'labs'
.heatMap.ggplot: no visible global function definition for
  'scale_x_discrete'
.heatMap.ggplot: no visible global function definition for
  'scale_y_discrete'
.plotDistribParents.LargeMat: no visible global function definition for
  'ggplot'
.plotDistribParents.LargeMat: no visible global function definition for
  'aes'
.plotDistribParents.LargeMat: no visible binding for global variable
  'variable'
.plotDistribParents.LargeMat: no visible binding for global variable
  'GeneNames'
.plotDistribParents.LargeMat: no visible global function definition for
  'geom_tile'
.plotDistribParents.LargeMat: no visible binding for global variable
  'value'
.plotDistribParents.LargeMat: no visible global function definition for
  'scale_fill_gradient'
.plotDistribParents.LargeMat: no visible global function definition for
  'theme'
.plotDistribParents.LargeMat: no visible global function definition for
  'element_blank'
.plotDistribParents.LargeMat: no visible global function definition for
  'element_text'
.plotDistribParents.LargeMat: no visible global function definition for
  'ggtitle'
.plotDistribParents.LargeMat: no visible global function definition for
  'labs'
.plotDistribParents.LargeMat: no visible global function definition for
  'scale_x_discrete'
.plotDistribParents.LargeMat: no visible global function definition for
  'scale_y_discrete'
.plotDistribParents.LargeMat: no visible global function definition for
  'facet_wrap'
Undefined global functions or variables:
  GeneNames Var1 Var2 aes element_blank element_text facet_wrap
  geom_tile ggplot ggtitle labs scale_fill_gradient scale_x_discrete
  scale_y_discrete theme value variable
* checking Rd files ... OK
* checking Rd metadata ... OK
* checking Rd cross-references ... OK
* checking for missing documentation entries ... OK
* checking for code/documentation mismatches ... OK
* checking Rd \usage sections ... OK
* checking Rd contents ... OK
* checking for unstated dependencies in examples ... OK
* checking contents of 'data' directory ... OK
* checking data for non-ASCII characters ... OK
* checking data for ASCII and uncompressed saves ... OK
* checking line endings in C/C++/Fortran sources/headers ... OK
* checking line endings in Makefiles ... OK
* checking compilation flags in Makevars ... OK
* checking for GNU extensions in Makefiles ... OK
* checking for portable use of $(BLAS_LIBS) and $(LAPACK_LIBS) ... OK
* checking use of PKG_*FLAGS in Makefiles ... OK
* checking compiled code ... NOTE
Note: information on .o files for x64 is not available
File 'E:/biocbuild/bbs-3.21-bioc/R/library/GRENITS/libs/x64/GRENITS.dll':
  Found '_exit', possibly from '_exit' (C)
  Found 'abort', possibly from 'abort' (C), 'runtime' (Fortran)
  Found 'exit', possibly from 'exit' (C), 'stop' (Fortran)

Compiled code should not call entry points which might terminate R nor
write to stdout/stderr instead of to the console, nor use Fortran I/O
nor system RNGs nor [v]sprintf. The detected symbols are linked into
the code but might come from libraries and not actually be called.

See 'Writing portable packages' in the 'Writing R Extensions' manual.
* checking sizes of PDF files under 'inst/doc' ... OK
* checking files in 'vignettes' ... OK
* checking examples ... OK
Examples with CPU (user + system) or elapsed time > 5s
                                user system elapsed
function_NonLinearNet          81.13   0.08   81.25
function_ReplicatesNet_student 30.67   0.14   31.68
function_ReplicatesNet_gauss   24.78   0.09   25.06
analyse.output                 12.47   0.20   12.67
function_LinearNet             11.94   0.03   11.97
readChains                      7.11   0.07    7.43
* checking for unstated dependencies in vignettes ... OK
* checking package vignettes ... OK
* checking running R code from vignettes ... SKIPPED
* checking re-building of vignette outputs ... SKIPPED
* checking PDF version of manual ... OK
* DONE

Status: 3 NOTEs
See
  'E:/biocbuild/bbs-3.21-bioc/meat/GRENITS.Rcheck/00check.log'
for details.