Package: GRENITS Version: 1.59.0 Command: /Library/Frameworks/R.framework/Resources/bin/R CMD INSTALL GRENITS StartedAt: 2025-02-19 15:06:24 -0500 (Wed, 19 Feb 2025) EndedAt: 2025-02-19 15:06:45 -0500 (Wed, 19 Feb 2025) EllapsedTime: 21.8 seconds RetCode: 0 Status: OK