Package: GRENITS
Version: 1.59.0
Command: /Library/Frameworks/R.framework/Resources/bin/R CMD check --install=check:GRENITS.install-out.txt --library=/Library/Frameworks/R.framework/Resources/library --no-vignettes --timings GRENITS_1.59.0.tar.gz
StartedAt: 2025-02-19 19:38:00 -0500 (Wed, 19 Feb 2025)
EndedAt: 2025-02-19 19:39:21 -0500 (Wed, 19 Feb 2025)
EllapsedTime: 82.0 seconds
RetCode: 0
Status: OK
CheckDir: GRENITS.Rcheck
Warnings: 0