Package: GRENITS
Version: 1.59.0
Command: /Library/Frameworks/R.framework/Resources/bin/R CMD build --keep-empty-dirs --no-resave-data GRENITS
StartedAt: 2025-02-19 16:33:39 -0500 (Wed, 19 Feb 2025)
EndedAt: 2025-02-19 16:34:08 -0500 (Wed, 19 Feb 2025)
EllapsedTime: 29.3 seconds
RetCode: 0
Status: OK
PackageFile: GRENITS_1.59.0.tar.gz
PackageFileSize: 266.9 <A href="http://en.wikipedia.org/wiki/KiB" target="_blank">KiB</A>