Package: GRENITS Version: 1.59.0 Command: rm -rf GRENITS.buildbin-libdir && mkdir GRENITS.buildbin-libdir && /Users/biocbuild/BBS/utils/build-universal.sh GRENITS_1.59.0.tar.gz /Library/Frameworks/R.framework/Resources/bin/R GRENITS.buildbin-libdir StartedAt: 2025-02-19 22:24:24 -0500 (Wed, 19 Feb 2025) EndedAt: 2025-02-19 22:24:49 -0500 (Wed, 19 Feb 2025) EllapsedTime: 24.5 seconds RetCode: 0 Status: OK PackageFile: GRENITS_1.59.0.tgz PackageFileSize: 530.8 <A href="http://en.wikipedia.org/wiki/KiB" target="_blank">KiB</A>