Package: GNET2
Version: 1.23.0
Maintainer: Chen Chen
MaintainerEmail: ccm3x at mail.missouri.edu
git_url: https://git.bioconductor.org/packages/GNET2
git_branch: devel
git_last_commit: fb558f7
git_last_commit_date: 2024-10-29 10:35:55 -0500 (Tue, 29 Oct 2024)