Package: GEWIST
Version: 1.51.0
Command: /Library/Frameworks/R.framework/Resources/bin/R CMD check --install=check:GEWIST.install-out.txt --library=/Library/Frameworks/R.framework/Resources/library --no-vignettes --timings GEWIST_1.51.0.tar.gz
StartedAt: 2025-02-19 19:32:04 -0500 (Wed, 19 Feb 2025)
EndedAt: 2025-02-19 19:32:24 -0500 (Wed, 19 Feb 2025)
EllapsedTime: 20.2 seconds
RetCode: 0
Status: OK
CheckDir: GEWIST.Rcheck
Warnings: 0