Package: GEWIST Version: 1.51.0 Command: /Library/Frameworks/R.framework/Resources/bin/R CMD build --keep-empty-dirs --no-resave-data GEWIST StartedAt: 2025-02-19 16:28:29 -0500 (Wed, 19 Feb 2025) EndedAt: 2025-02-19 16:29:10 -0500 (Wed, 19 Feb 2025) EllapsedTime: 40.4 seconds RetCode: 0 Status: OK PackageFile: GEWIST_1.51.0.tar.gz PackageFileSize: 388.4 <A href="http://en.wikipedia.org/wiki/KiB" target="_blank">KiB</A>