Package: GEWIST
Version: 1.51.0
Command: rm -rf GEWIST.buildbin-libdir && mkdir GEWIST.buildbin-libdir && /Users/biocbuild/BBS/utils/build-universal.sh GEWIST_1.51.0.tar.gz /Library/Frameworks/R.framework/Resources/bin/R GEWIST.buildbin-libdir
StartedAt: 2025-02-19 22:23:45 -0500 (Wed, 19 Feb 2025)
EndedAt: 2025-02-19 22:23:47 -0500 (Wed, 19 Feb 2025)
EllapsedTime: 2.0 seconds
RetCode: 0
Status: OK
PackageFile: GEWIST_1.51.0.tgz
PackageFileSize: 412.8 <A href="http://en.wikipedia.org/wiki/KiB" target="_blank">KiB</A>