Package: GEOquery
Version: 2.75.0
Maintainer: Sean Davis
MaintainerEmail: seandavi at gmail.com
git_url: https://git.bioconductor.org/packages/GEOquery
git_branch: devel
git_last_commit: 2a416df
git_last_commit_date: 2024-10-29 09:25:37 -0500 (Tue, 29 Oct 2024)