Package: GEOfastq
Version: 1.15.0
Maintainer: Alex Pickering
MaintainerEmail: alexvpickering at gmail.com
git_url: https://git.bioconductor.org/packages/GEOfastq
git_branch: devel
git_last_commit: 7ac929a
git_last_commit_date: 2024-10-29 10:54:07 -0500 (Tue, 29 Oct 2024)