Package: GENESIS
Version: 2.37.1
Command: E:\biocbuild\bbs-3.21-bioc\R\bin\R.exe CMD INSTALL GENESIS
StartedAt: 2025-02-19 16:43:50 -0500 (Wed, 19 Feb 2025)
EndedAt: 2025-02-19 16:44:47 -0500 (Wed, 19 Feb 2025)
EllapsedTime: 56.8 seconds
RetCode: 0
Status: OK