##############################################################################
##############################################################################
###
### Running command:
###
###   E:\biocbuild\bbs-3.21-bioc\R\bin\R.exe CMD check --no-multiarch --install=check:GENESIS.install-out.txt --library=E:\biocbuild\bbs-3.21-bioc\R\library --no-vignettes --timings GENESIS_2.37.1.tar.gz
###
##############################################################################
##############################################################################


* using log directory 'E:/biocbuild/bbs-3.21-bioc/meat/GENESIS.Rcheck'
* using R Under development (unstable) (2025-01-21 r87610 ucrt)
* using platform: x86_64-w64-mingw32
* R was compiled by
    gcc.exe (GCC) 13.3.0
    GNU Fortran (GCC) 13.3.0
* running under: Windows Server 2022 x64 (build 20348)
* using session charset: UTF-8
* using option '--no-vignettes'
* checking for file 'GENESIS/DESCRIPTION' ... OK
* checking extension type ... Package
* this is package 'GENESIS' version '2.37.1'
* checking package namespace information ... OK
* checking package dependencies ... OK
* checking if this is a source package ... OK
* checking if there is a namespace ... OK
* checking for hidden files and directories ... OK
* checking for portable file names ... OK
* checking whether package 'GENESIS' can be installed ... OK
* used C compiler: 'gcc.exe (GCC) 13.3.0'
* checking installed package size ... OK
* checking package directory ... OK
* checking 'build' directory ... OK
* checking DESCRIPTION meta-information ... OK
* checking top-level files ... OK
* checking for left-over files ... OK
* checking index information ... OK
* checking package subdirectories ... OK
* checking code files for non-ASCII characters ... OK
* checking R files for syntax errors ... OK
* checking whether the package can be loaded ... OK
* checking whether the package can be loaded with stated dependencies ... OK
* checking whether the package can be unloaded cleanly ... OK
* checking whether the namespace can be loaded with stated dependencies ... OK
* checking whether the namespace can be unloaded cleanly ... OK
* checking dependencies in R code ... NOTE
Unexported object imported by a ':::' call: 'survey:::saddle'
  See the note in ?`:::` about the use of this operator.
* checking S3 generic/method consistency ... OK
* checking replacement functions ... OK
* checking foreign function calls ... OK
* checking R code for possible problems ... OK
* checking Rd files ... NOTE
checkRd: (-1) sample_annotation_1KG.Rd:14: Lost braces in \itemize; meant \describe ?
checkRd: (-1) sample_annotation_1KG.Rd:15: Lost braces in \itemize; meant \describe ?
checkRd: (-1) sample_annotation_1KG.Rd:16: Lost braces in \itemize; meant \describe ?
* checking Rd metadata ... OK
* checking Rd cross-references ... NOTE
Found the following Rd file(s) with Rd \link{} targets missing package
anchors:
  admixMap.Rd: GenotypeIterator, SeqVarIterator, BiocParallelParam,
    bpparam, BiocParallel
  assocTestAggregate.Rd: SeqVarIterator, SeqVarTools, mcols, GRanges,
    GRangesList, BiocParallelParam, bpparam, BiocParallel,
    GenotypeIterator, SeqVarWindowIterator
  assocTestSingle.Rd: SeqVarIterator, SeqVarTools, GenotypeIterator,
    GWASTools, BiocParallelParam, bpparam, BiocParallel,
    GdsGenotypeReader, MatrixGenotypeReader, NcdfGenotypeReader
  effectAllele.Rd: SeqVarIterator, SeqVarTools, GenotypeIterator,
    GWASTools
  fitNullModel.Rd: AnnotatedDataFrame, SeqVarData, Matrix
  jointScoreTest.Rd: GenotypeData, SeqVarData
  kingToMatrix.Rd: snpgdsIBDKING
  pcair.Rd: snpgdsPCA, MatrixGenotypeReader, GenotypeData,
    GdsGenotypeReader
  pcairPartition.Rd: Matrix
  pcrelate.Rd: SeqVarIterator, SeqVarTools, GenotypeIterator,
    GWASTools, BiocParallelParam, bpparam, BiocParallel
Please provide package anchors for all Rd \link{} targets not in the
package itself and the base packages.
* checking for missing documentation entries ... OK
* checking for code/documentation mismatches ... OK
* checking Rd \usage sections ... OK
* checking Rd contents ... OK
* checking for unstated dependencies in examples ... OK
* checking contents of 'data' directory ... OK
* checking data for non-ASCII characters ... OK
* checking data for ASCII and uncompressed saves ... OK
* checking line endings in C/C++/Fortran sources/headers ... OK
* checking compiled code ... NOTE
Note: information on .o files for x64 is not available
File 'E:/biocbuild/bbs-3.21-bioc/R/library/GENESIS/libs/x64/GENESIS.dll':
  Found '_exit', possibly from '_exit' (C)
  Found 'abort', possibly from 'abort' (C), 'runtime' (Fortran)

Compiled code should not call entry points which might terminate R nor
write to stdout/stderr instead of to the console, nor use Fortran I/O
nor system RNGs nor [v]sprintf. The detected symbols are linked into
the code but might come from libraries and not actually be called.

See 'Writing portable packages' in the 'Writing R Extensions' manual.
* checking files in 'vignettes' ... OK
* checking examples ... OK
Examples with CPU (user + system) or elapsed time > 5s
              user system elapsed
fitNullModel 16.91   0.74   17.65
varCompCI    13.06   0.80   13.88
pcrelate     12.43   0.78   13.20
effectAllele  2.25   0.11   11.98
* checking for unstated dependencies in 'tests' ... OK
* checking tests ...
  Running 'testthat.R'
 OK
* checking for unstated dependencies in vignettes ... OK
* checking package vignettes ... OK
* checking running R code from vignettes ... SKIPPED
* checking re-building of vignette outputs ... SKIPPED
* checking PDF version of manual ... OK
* DONE

Status: 4 NOTEs
See
  'E:/biocbuild/bbs-3.21-bioc/meat/GENESIS.Rcheck/00check.log'
for details.