Package: GENESIS Version: 2.37.1 Command: chmod a+r GENESIS -R && E:\biocbuild\bbs-3.21-bioc\R\bin\R.exe CMD build --keep-empty-dirs --no-resave-data GENESIS StartedAt: 2025-02-19 18:53:43 -0500 (Wed, 19 Feb 2025) EndedAt: 2025-02-19 18:55:56 -0500 (Wed, 19 Feb 2025) EllapsedTime: 132.3 seconds RetCode: 0 Status: OK PackageFile: GENESIS_2.37.1.tar.gz PackageFileSize: 2.927 <A href="http://en.wikipedia.org/wiki/MiB" target="_blank">MiB</A>