##############################################################################
##############################################################################
###
### Running command:
###
###   rm -rf GENESIS.buildbin-libdir && mkdir GENESIS.buildbin-libdir && E:\biocbuild\bbs-3.21-bioc\R\bin\R.exe CMD INSTALL --build --library=GENESIS.buildbin-libdir GENESIS_2.37.1.tar.gz
###
##############################################################################
##############################################################################


* installing *source* package 'GENESIS' ...
** this is package 'GENESIS' version '2.37.1'
** using staged installation
** libs
using C compiler: 'gcc.exe (GCC) 13.3.0'
gcc  -I"E:/biocbuild/bbs-3.21-bioc/R/include" -DNDEBUG     -I"C:/rtools44/x86_64-w64-mingw32.static.posix/include"      -O2 -Wall  -mfpmath=sse -msse2 -mstackrealign   -c fht.c -o fht.o
gcc -shared -s -static-libgcc -o GENESIS.dll tmp.def fht.o -LC:/rtools44/x86_64-w64-mingw32.static.posix/lib/x64 -LC:/rtools44/x86_64-w64-mingw32.static.posix/lib -LE:/biocbuild/bbs-3.21-bioc/R/bin/x64 -lR
installing to E:/biocbuild/bbs-3.21-bioc/meat/GENESIS.buildbin-libdir/00LOCK-GENESIS/00new/GENESIS/libs/x64
** R
** data
** inst
** byte-compile and prepare package for lazy loading
** help
*** installing help indices
** building package indices
** installing vignettes
** testing if installed package can be loaded from temporary location
** testing if installed package can be loaded from final location
** testing if installed package keeps a record of temporary installation path
* MD5 sums
packaged installation of 'GENESIS' as GENESIS_2.37.1.zip
* DONE (GENESIS)