Package: GENESIS
Version: 2.37.0
Command: /home/biocbuild/R/R/bin/R CMD INSTALL GENESIS
StartedAt: 2025-01-29 20:23:58 -0000 (Wed, 29 Jan 2025)
EndedAt: 2025-01-29 20:24:34 -0000 (Wed, 29 Jan 2025)
EllapsedTime: 35.5 seconds
RetCode: 0
Status: OK