Package: GENESIS Version: 2.37.1 Maintainer: Stephanie M. Gogarten MaintainerEmail: sdmorris at uw.edu git_url: https://git.bioconductor.org/packages/GENESIS git_branch: devel git_last_commit: 7655885 git_last_commit_date: 2025-01-31 22:38:43 -0500 (Fri, 31 Jan 2025)