Package: FastqCleaner
Version: 1.25.0
Command: /home/biocbuild/bbs-3.21-bioc/R/bin/R CMD INSTALL FastqCleaner
StartedAt: 2025-02-19 15:49:42 -0500 (Wed, 19 Feb 2025)
EndedAt: 2025-02-19 15:50:27 -0500 (Wed, 19 Feb 2025)
EllapsedTime: 44.4 seconds
RetCode: 0
Status: OK