Package: FastqCleaner
Version: 1.25.0
Command: /home/biocbuild/bbs-3.21-bioc/R/bin/R CMD check --install=check:FastqCleaner.install-out.txt --library=/home/biocbuild/bbs-3.21-bioc/R/site-library --timings FastqCleaner_1.25.0.tar.gz
StartedAt: 2025-02-19 22:12:08 -0500 (Wed, 19 Feb 2025)
EndedAt: 2025-02-19 22:16:04 -0500 (Wed, 19 Feb 2025)
EllapsedTime: 236.4 seconds
RetCode: 0
Status: OK
CheckDir: FastqCleaner.Rcheck
Warnings: 0