Package: FastqCleaner Version: 1.25.0 Command: /home/biocbuild/bbs-3.21-bioc/R/bin/R CMD build --keep-empty-dirs --no-resave-data FastqCleaner StartedAt: 2025-02-19 17:13:22 -0500 (Wed, 19 Feb 2025) EndedAt: 2025-02-19 17:14:42 -0500 (Wed, 19 Feb 2025) EllapsedTime: 80.1 seconds RetCode: 0 Status: OK PackageFile: FastqCleaner_1.25.0.tar.gz PackageFileSize: 4.318 <A href="http://en.wikipedia.org/wiki/MiB" target="_blank">MiB</A>