##############################################################################
##############################################################################
###
### Running command:
###
###   /home/biocbuild/bbs-3.21-bioc/R/bin/R CMD build --keep-empty-dirs --no-resave-data FastqCleaner
###
##############################################################################
##############################################################################


* checking for file ‘FastqCleaner/DESCRIPTION’ ... OK
* preparing ‘FastqCleaner’:
* checking DESCRIPTION meta-information ... OK
* cleaning src
* installing the package to build vignettes
* creating vignettes ... OK
* cleaning src
* checking for LF line-endings in source and make files and shell scripts
* checking for empty or unneeded directories
Omitted ‘LazyData’ from DESCRIPTION
* building ‘FastqCleaner_1.25.0.tar.gz’
Warning in utils::tar(filepath, pkgname, compression = compression, compression_level = 9L,  :
  storing paths of more than 100 bytes is not portable:
  ‘FastqCleaner/inst/application/www/help/docs/articles/Overview_files/figure-html/unnamed-chunk-11-1.png’
Warning in utils::tar(filepath, pkgname, compression = compression, compression_level = 9L,  :
  storing paths of more than 100 bytes is not portable:
  ‘FastqCleaner/inst/application/www/help/docs/articles/Overview_files/figure-html/unnamed-chunk-12-1.png’
Warning in utils::tar(filepath, pkgname, compression = compression, compression_level = 9L,  :
  storing paths of more than 100 bytes is not portable:
  ‘FastqCleaner/inst/application/www/help/docs/articles/Overview_files/figure-html/unnamed-chunk-13-1.png’
Warning in utils::tar(filepath, pkgname, compression = compression, compression_level = 9L,  :
  storing paths of more than 100 bytes is not portable:
  ‘FastqCleaner/inst/application/www/help/docs/articles/Overview_files/figure-html/unnamed-chunk-14-1.png’
Warning in utils::tar(filepath, pkgname, compression = compression, compression_level = 9L,  :
  storing paths of more than 100 bytes is not portable:
  ‘FastqCleaner/inst/application/www/help/docs/articles/Overview_files/figure-html/unnamed-chunk-7-1.png’
Warning in utils::tar(filepath, pkgname, compression = compression, compression_level = 9L,  :
  storing paths of more than 100 bytes is not portable:
  ‘FastqCleaner/inst/application/www/help/docs/articles/Overview_files/figure-html/unnamed-chunk-8-1.png’