Package: FGNet
Version: 3.41.0
Maintainer: Sara Aibar
MaintainerEmail: saibar at usal.es
git_url: https://git.bioconductor.org/packages/FGNet
git_branch: devel
git_last_commit: a782bd5
git_last_commit_date: 2024-10-29 09:48:57 -0500 (Tue, 29 Oct 2024)