Package: ExploreModelMatrix
Version: 1.19.2
Command: E:\biocbuild\bbs-3.21-bioc\R\bin\R.exe CMD INSTALL ExploreModelMatrix
StartedAt: 2025-02-19 16:15:19 -0500 (Wed, 19 Feb 2025)
EndedAt: 2025-02-19 16:15:41 -0500 (Wed, 19 Feb 2025)
EllapsedTime: 21.8 seconds
RetCode: 0
Status: OK