Package: ExploreModelMatrix
Version: 1.19.2
Command: E:\biocbuild\bbs-3.21-bioc\R\bin\R.exe CMD check --no-multiarch --install=check:ExploreModelMatrix.install-out.txt --library=E:\biocbuild\bbs-3.21-bioc\R\library --no-vignettes --timings ExploreModelMatrix_1.19.2.tar.gz
StartedAt: 2025-02-20 01:04:04 -0500 (Thu, 20 Feb 2025)
EndedAt: 2025-02-20 01:05:32 -0500 (Thu, 20 Feb 2025)
EllapsedTime: 87.5 seconds
RetCode: 0
Status: OK
CheckDir: ExploreModelMatrix.Rcheck
Warnings: 0