Package: ExploreModelMatrix
Version: 1.19.2
Command: /Library/Frameworks/R.framework/Resources/bin/R CMD INSTALL ExploreModelMatrix
StartedAt: 2025-02-19 15:24:45 -0500 (Wed, 19 Feb 2025)
EndedAt: 2025-02-19 15:24:58 -0500 (Wed, 19 Feb 2025)
EllapsedTime: 12.8 seconds
RetCode: 0
Status: OK