Package: ExploreModelMatrix
Version: 1.19.2
Command: /Library/Frameworks/R.framework/Resources/bin/R CMD build --keep-empty-dirs --no-resave-data ExploreModelMatrix
StartedAt: 2025-02-19 16:40:37 -0500 (Wed, 19 Feb 2025)
EndedAt: 2025-02-19 16:40:56 -0500 (Wed, 19 Feb 2025)
EllapsedTime: 19.5 seconds
RetCode: 0
Status: OK
PackageFile: ExploreModelMatrix_1.19.2.tar.gz
PackageFileSize: 2.611 <A href="http://en.wikipedia.org/wiki/MiB" target="_blank">MiB</A>