Package: ExploreModelMatrix Version: 1.19.2 Command: /Library/Frameworks/R.framework/Resources/bin/R CMD INSTALL ExploreModelMatrix StartedAt: 2025-02-19 15:15:47 -0500 (Wed, 19 Feb 2025) EndedAt: 2025-02-19 15:15:52 -0500 (Wed, 19 Feb 2025) EllapsedTime: 4.6 seconds RetCode: 0 Status: OK