Package: ExCluster
Version: 1.25.0
Maintainer: R. Matthew Tanner
MaintainerEmail: rtann038 at uottawa.ca
git_url: https://git.bioconductor.org/packages/ExCluster
git_branch: devel
git_last_commit: 7e5c843
git_last_commit_date: 2024-10-29 10:31:44 -0500 (Tue, 29 Oct 2024)