Package: EpiTxDb Version: 1.19.0 Command: E:\biocbuild\bbs-3.21-bioc\R\bin\R.exe CMD check --no-multiarch --install=check:EpiTxDb.install-out.txt --library=E:\biocbuild\bbs-3.21-bioc\R\library --no-vignettes --timings EpiTxDb_1.19.0.tar.gz StartedAt: 2025-02-05 01:23:11 -0500 (Wed, 05 Feb 2025) EndedAt: 2025-02-05 01:29:02 -0500 (Wed, 05 Feb 2025) EllapsedTime: 350.1 seconds RetCode: 0 Status: WARNINGS CheckDir: EpiTxDb.Rcheck Warnings: 1