Package: EpiTxDb Version: 1.19.0 Command: rm -rf EpiTxDb.buildbin-libdir && mkdir EpiTxDb.buildbin-libdir && E:\biocbuild\bbs-3.21-bioc\R\bin\R.exe CMD INSTALL --build --library=EpiTxDb.buildbin-libdir EpiTxDb_1.19.0.tar.gz StartedAt: 2025-02-05 07:54:28 -0500 (Wed, 05 Feb 2025) EndedAt: 2025-02-05 07:55:57 -0500 (Wed, 05 Feb 2025) EllapsedTime: 88.9 seconds RetCode: 0 Status: OK PackageFile: EpiTxDb_1.19.0.zip PackageFileSize: 1.607 MiB